BEGIN:VCALENDAR
VERSION:2.0
PRODID:icalendar-ruby
CALSCALE:GREGORIAN
METHOD:PUBLISH
BEGIN:VEVENT
DTSTAMP:20260421T175520Z
UID:49-370253@jesusisthewaychurch.org
DTSTART:20260801T030000Z
DTEND:20260801T050000Z
CLASS:PUBLIC
CREATED:20260401T132254
DESCRIPTION:
LAST-MODIFIED:20260401T132254
LOCATION:
SUMMARY:Third Age
URL;VALUE=URI:https://jesusisthewaychurch.org/events/third-age--49/2026-08-
 01
ATTACH;FILENAME=International Women’s Day Card-4.png;FMTTYPE=image/png:ht
 tps://dq5pwpg1q8ru0.cloudfront.net/2026/02/21/05/36/34/cff9afb8-4a60-4898-
 b91d-729f9ca3afbc/International%20Women%E2%80%99s%20Day%20Card-4.png
END:VEVENT
END:VCALENDAR
