BEGIN:VCALENDAR
VERSION:2.0
PRODID:icalendar-ruby
CALSCALE:GREGORIAN
METHOD:PUBLISH
BEGIN:VEVENT
DTSTAMP:20260421T105620Z
UID:54-370241@jesusisthewaychurch.org
DTSTART:20260417T090000Z
DTEND:20260417T110000Z
CLASS:PUBLIC
CREATED:20260401T130730
DESCRIPTION:
LAST-MODIFIED:20260401T130730
LOCATION:30 Commercial Place Keilor East
SUMMARY:Men's Gathering
URL;VALUE=URI:https://jesusisthewaychurch.org/events/mens-gathering/2026-04
 -17
ATTACH;FILENAME=Beige Sepia Wedding Couple Video-8.png;FMTTYPE=image/png:ht
 tps://dq5pwpg1q8ru0.cloudfront.net/2026/04/01/02/07/07/6eb941b4-6452-401a-
 abf2-a22d07626e17/Beige%20Sepia%20Wedding%20Couple%20Video-8.png
END:VEVENT
END:VCALENDAR
